0.00000000000000
0.10000000000000
0.10000000000000
-0.00000000000000
709369.60462606768000
245218.04408619675000
