0.00000000000000
0.10000000000000
0.10000000000000
-0.00000000000000
709393.60462606768000
257025.04408619675000
