0.00000000000000
0.10000000000000
0.10000000000000
-0.00000000000000
709391.60462606768000
257640.04408619675000
