-0.00000000000000
-0.10000000000000
-0.10000000000000
0.00000000000000
710104.39537393232000
238129.95591380325000
