-0.00000000000000
-0.10000000000000
-0.10000000000000
0.00000000000000
710116.39537393232000
238710.95591380325000
