-0.00000000000000
-0.10000000000000
-0.10000000000000
0.00000000000000
710106.39537393232000
241061.95591380325000
