-0.00000000000000
-0.10000000000000
-0.10000000000000
0.00000000000000
710120.39537393232000
244512.95591380325000
