-0.00000000000000
-0.10000000000000
-0.10000000000000
0.00000000000000
710114.39537393232000
245032.95591380325000
