-0.00000000000000
-0.10000000000000
-0.10000000000000
0.00000000000000
710100.39537393232000
246225.95591380325000
