-0.00000000000000
-0.10000000000000
-0.10000000000000
0.00000000000000
710118.39537393232000
249533.95591380325000
