-0.00000000000000
-0.10000000000000
-0.10000000000000
0.00000000000000
710131.39537393232000
255132.95591380325000
