0.00000000000000
0.10000000000000
0.10000000000000
-0.00000000000000
707191.60462606768000
238056.04408619675000
