0.00000000000000
0.10000000000000
0.10000000000000
-0.00000000000000
707187.60462606768000
238730.04408619675000
