0.00000000000000
0.10000000000000
0.10000000000000
-0.00000000000000
707181.60462606768000
239393.04408619675000
