0.00000000000000
0.10000000000000
0.10000000000000
-0.00000000000000
707193.60462606768000
241868.04408619675000
