0.00000000000000
0.10000000000000
0.10000000000000
-0.00000000000000
707183.60462606768000
244219.04408619675000
