0.00000000000000
0.10000000000000
0.10000000000000
-0.00000000000000
707177.60462606768000
246569.04408619675000
