0.00000000000000
0.10000000000000
0.10000000000000
-0.00000000000000
707189.60462606768000
252472.04408619675000
