0.00000000000000
0.10000000000000
0.10000000000000
-0.00000000000000
707201.60462606768000
255739.04408619675000
