-0.00000000000000
-0.10000000000000
-0.10000000000000
0.00000000000000
707949.39537393232000
236180.95591380325000
