-0.00000000000000
-0.10000000000000
-0.10000000000000
0.00000000000000
707945.39537393232000
239391.95591380325000
