-0.00000000000000
-0.10000000000000
-0.10000000000000
0.00000000000000
707937.39537393232000
240006.95591380325000
