-0.00000000000000
-0.10000000000000
-0.10000000000000
0.00000000000000
707929.39537393232000
246626.95591380325000
