-0.00000000000000
-0.10000000000000
-0.10000000000000
0.00000000000000
707941.39537393232000
253718.95591380325000
