0.00000000000000
0.10000000000000
0.10000000000000
-0.00000000000000
705016.60462606768000
235589.04408619675000
