0.00000000000000
0.10000000000000
0.10000000000000
-0.00000000000000
705020.60462606768000
250853.04408619675000
