0.00000000000000
0.10000000000000
0.10000000000000
-0.00000000000000
705024.60462606768000
255274.04408619675000
