-0.10000000000000
0.00000000000000
0.00000000000000
0.10000000000000
705759.85591380321000
236229.70462606766000
