-0.10000000000000
0.00000000000000
0.00000000000000
0.10000000000000
705751.85591380321000
246730.70462606766000
