-0.10000000000000
0.00000000000000
0.00000000000000
0.10000000000000
705763.85591380321000
249516.70462606766000
