-0.10000000000000
0.00000000000000
0.00000000000000
0.10000000000000
705747.85591380321000
250119.70462606766000
