-0.10000000000000
0.00000000000000
0.00000000000000
0.10000000000000
705759.85591380321000
250631.70462606766000
