0.10000000000000
0.00000000000000
0.00000000000000
-0.10000000000000
702762.14408619679000
238642.29537393234000
