0.10000000000000
0.00000000000000
0.00000000000000
-0.10000000000000
702746.14408619679000
240013.29537393234000
