0.10000000000000
0.00000000000000
0.00000000000000
-0.10000000000000
702768.14408619679000
243643.29537393234000
