0.10000000000000
0.00000000000000
0.00000000000000
-0.10000000000000
702761.14408619679000
245101.29537393234000
