0.10000000000000
0.00000000000000
0.00000000000000
-0.10000000000000
702750.14408619679000
247251.29537393234000
