0.10000000000000
0.00000000000000
0.00000000000000
-0.10000000000000
702776.14408619679000
250289.29537393234000
