0.10000000000000
0.00000000000000
0.00000000000000
-0.10000000000000
702773.14408619679000
250906.29537393234000
