-0.10000000000000
0.00000000000000
0.00000000000000
0.10000000000000
703533.85591380321000
238987.70462606766000
