-0.10000000000000
0.00000000000000
0.00000000000000
0.10000000000000
703545.85591380321000
239718.70462606766000
