-0.10000000000000
0.00000000000000
0.00000000000000
0.10000000000000
703537.85591380321000
240567.70462606766000
