-0.10000000000000
0.00000000000000
0.00000000000000
0.10000000000000
703541.85591380321000
249576.70462606766000
