-0.10000000000000
0.00000000000000
0.00000000000000
0.10000000000000
703549.85591380321000
252521.70462606766000
