-0.10000000000000
0.00000000000000
0.00000000000000
0.10000000000000
703557.85591380321000
253255.70462606766000
