-0.10000000000000
0.00000000000000
0.00000000000000
0.10000000000000
703565.85591380321000
253934.70462606766000
