-0.10000000000000
0.00000000000000
0.00000000000000
0.10000000000000
703553.85591380321000
256799.70462606766000
