0.10000000000000
0.00000000000000
0.00000000000000
-0.10000000000000
700509.14408619679000
250316.29537393234000
