0.10000000000000
0.00000000000000
0.00000000000000
-0.10000000000000
700505.14408619679000
251031.29537393234000
