0.10000000000000
0.00000000000000
0.00000000000000
-0.10000000000000
700521.14408619679000
254154.29537393234000
